<?xml version="1.0" encoding="UTF-8"?>
<Capabilities xmlns="http://www.opengis.net/wmts/1.0"
xmlns:ows="http://www.opengis.net/ows/1.1"
xmlns:xlink="http://www.w3.org/1999/xlink"
xmlns:xsi="http://www.w3.org/2001/XMLSchema-instance"
xmlns:gml="http://www.opengis.net/gml"
xsi:schemaLocation="http://www.opengis.net/wmts/1.0 http://schemas.opengis.net/wmts/1.0/wmtsGetCapabilities_response.xsd"
version="1.0.0">
<!-- Service Identification --> <ows:ServiceIdentification>
<ows:Title>Mesquite_NewGeneralBasemap_202610211350</ows:Title>
<ows:ServiceType>OGC WMTS</ows:ServiceType>
<ows:ServiceTypeVersion>1.0.0</ows:ServiceTypeVersion>
</ows:ServiceIdentification> <!-- Operations Metadata --> <ows:OperationsMetadata>
<ows:Operation name="GetCapabilities">
<ows:DCP>
<ows:HTTP>
<ows:Get xlink:href="https://mapserv.mesquitenv.gov/arcgis_maps/rest/services/Mesquite/NewGeneralBasemap_202610211350/MapServer/WMTS/1.0.0/WMTSCapabilities.xml">
<ows:Constraint name="GetEncoding">
<ows:AllowedValues>
<ows:Value>RESTful</ows:Value>
</ows:AllowedValues>
</ows:Constraint>
</ows:Get>
<!-- add KVP binding in 10.1 -->
<ows:Get xlink:href="https://mapserv.mesquitenv.gov/arcgis_maps/rest/services/Mesquite/NewGeneralBasemap_202610211350/MapServer/WMTS?">
<ows:Constraint name="GetEncoding">
<ows:AllowedValues>
<ows:Value>KVP</ows:Value>
</ows:AllowedValues>
</ows:Constraint>
</ows:Get>
</ows:HTTP>
</ows:DCP>
</ows:Operation>
<ows:Operation name="GetTile">
<ows:DCP>
<ows:HTTP>
<ows:Get xlink:href="https://mapserv.mesquitenv.gov/arcgis_maps/rest/services/Mesquite/NewGeneralBasemap_202610211350/MapServer/WMTS/tile/1.0.0/">
<ows:Constraint name="GetEncoding">
<ows:AllowedValues>
<ows:Value>RESTful</ows:Value>
</ows:AllowedValues>
</ows:Constraint>
</ows:Get>
<ows:Get xlink:href="https://mapserv.mesquitenv.gov/arcgis_maps/rest/services/Mesquite/NewGeneralBasemap_202610211350/MapServer/WMTS?">
<ows:Constraint name="GetEncoding">
<ows:AllowedValues>
<ows:Value>KVP</ows:Value>
</ows:AllowedValues>
</ows:Constraint>
</ows:Get>
</ows:HTTP>
</ows:DCP>
</ows:Operation>
</ows:OperationsMetadata> <Contents>
<!--Layer--> <Layer>
<ows:Title>Mesquite_NewGeneralBasemap_202610211350</ows:Title> <ows:Identifier>Mesquite_NewGeneralBasemap_202610211350</ows:Identifier>
<ows:BoundingBox crs="urn:ogc:def:crs:EPSG::3421">
<ows:LowerCorner>826339.2541959868 2.670191653624287E7</ows:LowerCorner>
<ows:UpperCorner>1195290.453211911 2.7074930285600573E7</ows:UpperCorner>
</ows:BoundingBox> <ows:WGS84BoundingBox crs="urn:ogc:def:crs:OGC:2:84">
<ows:LowerCorner>-115.00801024392484 35.98696811594448</ows:LowerCorner>
<ows:UpperCorner>-113.73685960403422 37.02404939551149</ows:UpperCorner>
</ows:WGS84BoundingBox>
<Style isDefault="true">
<ows:Title>Default Style</ows:Title>
<ows:Identifier>default</ows:Identifier>
</Style>
<Format>image/jpgpng</Format>
<TileMatrixSetLink>
<TileMatrixSet>default028mm</TileMatrixSet>
</TileMatrixSetLink>
<ResourceURL format="image/jpgpng" resourceType="tile" template="https://mapserv.mesquitenv.gov/arcgis_maps/rest/services/Mesquite/NewGeneralBasemap_202610211350/MapServer/WMTS/tile/1.0.0/Mesquite_NewGeneralBasemap_202610211350/{Style}/{TileMatrixSet}/{TileMatrix}/{TileRow}/{TileCol}" />
</Layer> <!--TileMatrixSet-->
<TileMatrixSet>
<ows:Title>TileMatrix using 0.28mm</ows:Title>
<ows:Abstract>The tile matrix set that has scale values calculated based on the dpi defined by OGC specification (dpi assumes 0.28mm as the physical distance of a pixel).</ows:Abstract> <ows:Identifier>default028mm</ows:Identifier>
<ows:SupportedCRS>urn:ogc:def:crs:EPSG::3421</ows:SupportedCRS>
<TileMatrix>
<ows:Identifier>0</ows:Identifier>
<ScaleDenominator>2.7904476932627934E8</ScaleDenominator>
<TopLeftCorner>-3.2155331137552634E7 4.643852552475685E7</TopLeftCorner> <TileWidth>256</TileWidth> <TileHeight>256</TileHeight>
<MatrixWidth>1</MatrixWidth> <MatrixHeight>1</MatrixHeight>
</TileMatrix>
<TileMatrix>
<ows:Identifier>1</ows:Identifier>
<ScaleDenominator>1.3952238466313967E8</ScaleDenominator>
<TopLeftCorner>-3.2155331137552634E7 4.643852552475685E7</TopLeftCorner> <TileWidth>256</TileWidth> <TileHeight>256</TileHeight>
<MatrixWidth>2</MatrixWidth> <MatrixHeight>1</MatrixHeight>
</TileMatrix>
<TileMatrix>
<ows:Identifier>2</ows:Identifier>
<ScaleDenominator>6.976119233156984E7</ScaleDenominator>
<TopLeftCorner>-3.2155331137552634E7 4.643852552475685E7</TopLeftCorner> <TileWidth>256</TileWidth> <TileHeight>256</TileHeight>
<MatrixWidth>3</MatrixWidth> <MatrixHeight>2</MatrixHeight>
</TileMatrix>
<TileMatrix>
<ows:Identifier>3</ows:Identifier>
<ScaleDenominator>3.488059616578492E7</ScaleDenominator>
<TopLeftCorner>-3.2155331137552634E7 4.643852552475685E7</TopLeftCorner> <TileWidth>256</TileWidth> <TileHeight>256</TileHeight>
<MatrixWidth>5</MatrixWidth> <MatrixHeight>3</MatrixHeight>
</TileMatrix>
<TileMatrix>
<ows:Identifier>4</ows:Identifier>
<ScaleDenominator>1.744029808289246E7</ScaleDenominator>
<TopLeftCorner>-3.2155331137552634E7 4.643852552475685E7</TopLeftCorner> <TileWidth>256</TileWidth> <TileHeight>256</TileHeight>
<MatrixWidth>9</MatrixWidth> <MatrixHeight>5</MatrixHeight>
</TileMatrix>
<TileMatrix>
<ows:Identifier>5</ows:Identifier>
<ScaleDenominator>8720149.04144623</ScaleDenominator>
<TopLeftCorner>-3.2155331137552634E7 4.643852552475685E7</TopLeftCorner> <TileWidth>256</TileWidth> <TileHeight>256</TileHeight>
<MatrixWidth>17</MatrixWidth> <MatrixHeight>10</MatrixHeight>
</TileMatrix>
<TileMatrix>
<ows:Identifier>6</ows:Identifier>
<ScaleDenominator>4360074.520723115</ScaleDenominator>
<TopLeftCorner>-3.2155331137552634E7 4.643852552475685E7</TopLeftCorner> <TileWidth>256</TileWidth> <TileHeight>256</TileHeight>
<MatrixWidth>33</MatrixWidth> <MatrixHeight>20</MatrixHeight>
</TileMatrix>
<TileMatrix>
<ows:Identifier>7</ows:Identifier>
<ScaleDenominator>2180037.2603615574</ScaleDenominator>
<TopLeftCorner>-3.2155331137552634E7 4.643852552475685E7</TopLeftCorner> <TileWidth>256</TileWidth> <TileHeight>256</TileHeight>
<MatrixWidth>66</MatrixWidth> <MatrixHeight>39</MatrixHeight>
</TileMatrix>
<TileMatrix>
<ows:Identifier>8</ows:Identifier>
<ScaleDenominator>1090018.6301807787</ScaleDenominator>
<TopLeftCorner>-3.2155331137552634E7 4.643852552475685E7</TopLeftCorner> <TileWidth>256</TileWidth> <TileHeight>256</TileHeight>
<MatrixWidth>131</MatrixWidth> <MatrixHeight>77</MatrixHeight>
</TileMatrix>
<TileMatrix>
<ows:Identifier>9</ows:Identifier>
<ScaleDenominator>545009.3150903893</ScaleDenominator>
<TopLeftCorner>-3.2155331137552634E7 4.643852552475685E7</TopLeftCorner> <TileWidth>256</TileWidth> <TileHeight>256</TileHeight>
<MatrixWidth>261</MatrixWidth> <MatrixHeight>154</MatrixHeight>
</TileMatrix>
<TileMatrix>
<ows:Identifier>10</ows:Identifier>
<ScaleDenominator>272504.65754519467</ScaleDenominator>
<TopLeftCorner>-3.2155331137552634E7 4.643852552475685E7</TopLeftCorner> <TileWidth>256</TileWidth> <TileHeight>256</TileHeight>
<MatrixWidth>521</MatrixWidth> <MatrixHeight>308</MatrixHeight>
</TileMatrix>
<TileMatrix>
<ows:Identifier>11</ows:Identifier>
<ScaleDenominator>136252.32877259734</ScaleDenominator>
<TopLeftCorner>-3.2155331137552634E7 4.643852552475685E7</TopLeftCorner> <TileWidth>256</TileWidth> <TileHeight>256</TileHeight>
<MatrixWidth>1041</MatrixWidth> <MatrixHeight>616</MatrixHeight>
</TileMatrix>
<TileMatrix>
<ows:Identifier>12</ows:Identifier>
<ScaleDenominator>68126.16438629867</ScaleDenominator>
<TopLeftCorner>-3.2155331137552634E7 4.643852552475685E7</TopLeftCorner> <TileWidth>256</TileWidth> <TileHeight>256</TileHeight>
<MatrixWidth>2082</MatrixWidth> <MatrixHeight>1232</MatrixHeight>
</TileMatrix>
<TileMatrix>
<ows:Identifier>13</ows:Identifier>
<ScaleDenominator>34063.082193149334</ScaleDenominator>
<TopLeftCorner>-3.2155331137552634E7 4.643852552475685E7</TopLeftCorner> <TileWidth>256</TileWidth> <TileHeight>256</TileHeight>
<MatrixWidth>4164</MatrixWidth> <MatrixHeight>2464</MatrixHeight>
</TileMatrix>
<TileMatrix>
<ows:Identifier>14</ows:Identifier>
<ScaleDenominator>17031.541096574667</ScaleDenominator>
<TopLeftCorner>-3.2155331137552634E7 4.643852552475685E7</TopLeftCorner> <TileWidth>256</TileWidth> <TileHeight>256</TileHeight>
<MatrixWidth>8327</MatrixWidth> <MatrixHeight>4928</MatrixHeight>
</TileMatrix>
<TileMatrix>
<ows:Identifier>15</ows:Identifier>
<ScaleDenominator>8515.770548287333</ScaleDenominator>
<TopLeftCorner>-3.2155331137552634E7 4.643852552475685E7</TopLeftCorner> <TileWidth>256</TileWidth> <TileHeight>256</TileHeight>
<MatrixWidth>16654</MatrixWidth> <MatrixHeight>9856</MatrixHeight>
</TileMatrix>
<TileMatrix>
<ows:Identifier>16</ows:Identifier>
<ScaleDenominator>4257.885274143667</ScaleDenominator>
<TopLeftCorner>-3.2155331137552634E7 4.643852552475685E7</TopLeftCorner> <TileWidth>256</TileWidth> <TileHeight>256</TileHeight>
<MatrixWidth>33307</MatrixWidth> <MatrixHeight>19711</MatrixHeight>
</TileMatrix>
<TileMatrix>
<ows:Identifier>17</ows:Identifier>
<ScaleDenominator>2128.9426370718334</ScaleDenominator>
<TopLeftCorner>-3.2155331137552634E7 4.643852552475685E7</TopLeftCorner> <TileWidth>256</TileWidth> <TileHeight>256</TileHeight>
<MatrixWidth>66613</MatrixWidth> <MatrixHeight>39421</MatrixHeight>
</TileMatrix>
<TileMatrix>
<ows:Identifier>18</ows:Identifier>
<ScaleDenominator>1064.4713185359167</ScaleDenominator>
<TopLeftCorner>-3.2155331137552634E7 4.643852552475685E7</TopLeftCorner> <TileWidth>256</TileWidth> <TileHeight>256</TileHeight>
<MatrixWidth>133226</MatrixWidth> <MatrixHeight>78842</MatrixHeight>
</TileMatrix>
</TileMatrixSet>
</Contents>
<ServiceMetadataURL xlink:href="https://mapserv.mesquitenv.gov/arcgis_maps/rest/services/Mesquite/NewGeneralBasemap_202610211350/MapServer/WMTS/1.0.0/WMTSCapabilities.xml" /> </Capabilities>
